BEGIN:VCALENDAR
VERSION:2.0
PRODID:spatie/icalendar-generator
DESCRIPTION:サポステ三条のイベント
X-WR-CALDESC:サポステ三条のイベント
REFRESH-INTERVAL;VALUE=DURATION:PT1440M
X-PUBLISHED-TTL:PT1440M
BEGIN:VTIMEZONE
TZID:Asia/Tokyo
BEGIN:STANDARD
DTSTART:20250619T131500Z
TZOFFSETFROM:+0900
TZOFFSETTO:+0900
END:STANDARD
END:VTIMEZONE
BEGIN:VTIMEZONE
TZID:UTC
BEGIN:STANDARD
DTSTART:20250724T153406Z
TZOFFSETFROM:+0000
TZOFFSETTO:+0000
END:STANDARD
END:VTIMEZONE
BEGIN:VEVENT
UID:1917-94
DTSTAMP:20260420T153406Z
SUMMARY:やさしいお仕事説明会
LOCATION:
ORGANIZER;CN=saposute:MAILTO:info@is1.co.jp
DTSTART;TZID=Asia/Tokyo:20260316T131500
DTEND;TZID=Asia/Tokyo:20260316T150000
X-ALT-DESC;FMTTYPE=TEXT/HTML:
CATEGORIES:不定期開催
URL;VALUE=URI:https://www.saposute-sanjo.com/mc-events/%e3%82%84%e3%81%95%e
 3%81%97%e3%81%84%e3%81%8a%e4%bb%95%e4%ba%8b%e8%aa%ac%e6%98%8e%e4%bc%9a/
METHOD:PUBLISH
END:VEVENT
END:VCALENDAR