BEGIN:VCALENDAR
VERSION:2.0
PRODID:spatie/icalendar-generator
DESCRIPTION:サポステ三条のイベント
X-WR-CALDESC:サポステ三条のイベント
REFRESH-INTERVAL;VALUE=DURATION:PT1440M
X-PUBLISHED-TTL:PT1440M
BEGIN:VTIMEZONE
TZID:Asia/Tokyo
BEGIN:STANDARD
DTSTART:20250630T131500Z
TZOFFSETFROM:+0900
TZOFFSETTO:+0900
END:STANDARD
END:VTIMEZONE
BEGIN:VTIMEZONE
TZID:UTC
BEGIN:STANDARD
DTSTART:20250723T195103Z
TZOFFSETFROM:+0000
TZOFFSETTO:+0000
END:STANDARD
END:VTIMEZONE
BEGIN:VEVENT
UID:1918-95
DTSTAMP:20260419T195103Z
SUMMARY:燕市産業資料館見学会
LOCATION:
ORGANIZER;CN=saposute:MAILTO:info@is1.co.jp
DTSTART;TZID=Asia/Tokyo:20260327T131500
DTEND;TZID=Asia/Tokyo:20260327T141500
X-ALT-DESC;FMTTYPE=TEXT/HTML:
CATEGORIES:不定期開催
URL;VALUE=URI:https://www.saposute-sanjo.com/mc-events/%e7%87%95%e5%b8%82%e
 7%94%a3%e6%a5%ad%e8%b3%87%e6%96%99%e9%a4%a8%e8%a6%8b%e5%ad%a6%e4%bc%9a/
METHOD:PUBLISH
END:VEVENT
END:VCALENDAR